BEGIN:VCALENDAR
CALSCALE:GREGORIAN
VERSION:2.0
PRODID:-//Elixir ICalendar//Elixir ICalendar//EN
BEGIN:VEVENT
ATTACH;FMTTYPE=image/webp:https://events.lithilion.at/media/12369e9c6465f2f7558b2cbf98703e00b76b80323308b8f1851fa8bd170c631d.webp?name=export_Logo_id%20austria-groesser-v2.webp
CATEGORIES:Vortrag,eGovernment
DESCRIPTION:Vortrag im Zuge des CERT.at Stammtisch\n\n- Welche Voraussetzungen habe ich als Service Provider für die ID Austria?\n\n\n- Welche Behördenwege und Entscheidungen habe ich?\n\n\n- Wie binde ich die ID Austria an einen Keycloak an?\n\n\n- Warum will ich das überhaupt haben?\n\n\nHier gibt es einen dazugehörigen Blogeintrag und die Folien.\n\n
DTEND;TZID=Europe/Vienna:20260408T180000
DTSTAMP:20260420T054141Z
DTSTART;TZID=Europe/Vienna:20260408T173000
GEO:48.2140437;16.357779
LOCATION:7 Universitätsstraße 7 Universitätsstraße 1010 Wien  Österreich
ORGANIZER:Paul Lackner
STATUS:CONFIRMED
SUMMARY:Implementation of the Austrian eID into your Application
UID:d5b1c1e8-e386-4ae2-b7df-5e1d607c547d
URL:https://events.lithilion.at/events/d5b1c1e8-e386-4ae2-b7df-5e1d607c547d
END:VEVENT
END:VCALENDAR
